BEGIN:VCALENDAR
VERSION:2.0
PRODID:-//Organic Rising - ECPv6.5.0//NONSGML v1.0//EN
CALSCALE:GREGORIAN
METHOD:PUBLISH
X-WR-CALNAME:Organic Rising
X-ORIGINAL-URL:https://www.organicrisingfilm.com
X-WR-CALDESC:Events for Organic Rising
REFRESH-INTERVAL;VALUE=DURATION:PT1H
X-Robots-Tag:noindex
X-PUBLISHED-TTL:PT1H
BEGIN:VTIMEZONE
TZID:America/New_York
BEGIN:DAYLIGHT
TZOFFSETFROM:-0500
TZOFFSETTO:-0400
TZNAME:EDT
DTSTART:20240310T070000
END:DAYLIGHT
BEGIN:STANDARD
TZOFFSETFROM:-0400
TZOFFSETTO:-0500
TZNAME:EST
DTSTART:20241103T060000
END:STANDARD
END:VTIMEZONE
BEGIN:VEVENT
DTSTART;TZID=America/New_York:20240515T190000
DTEND;TZID=America/New_York:20240515T223000
DTSTAMP:20260421T143731
CREATED:20240524T215723Z
LAST-MODIFIED:20240524T215723Z
UID:2126-1715799600-1715812200@www.organicrisingfilm.com
SUMMARY:ORGANIC RISING Screening WILLIAMSTOWN\, MA
DESCRIPTION:ORGANIC RISING Screening WILLIAMSTOWN\, MA \nAt the IMAGES CINEMA 50 Spring Street \nMay 15\, 2024 7PM \nSPECIAL EVENT LIVE performance with musicians Mark STEWART and Todd REYNOLDS. \nQ&A after the screening with Pulitzer Prize and Emmy Award winning director Anthony SUAU and organic inspector Mark NOVAK.
URL:https://www.organicrisingfilm.com/event/organic-rising-screening-williamstown-ma/
LOCATION:Images Cinema\, 50 Spring Street\, Williamstown\, MA\, 01267\, United States
ATTACH;FMTTYPE=image/jpeg:https://www.organicrisingfilm.com/wp-content/uploads/2024/05/poster-hr-mass-update-1920.jpg
ORGANIZER;CN="Organic Rising":MAILTO:admin@organicrisingfilm.com
END:VEVENT
BEGIN:VEVENT
DTSTART;TZID=America/New_York:20240503T170000
DTEND;TZID=America/New_York:20240503T210000
DTSTAMP:20260421T143731
CREATED:20240611T232119Z
LAST-MODIFIED:20240611T235639Z
UID:2365-1714755600-1714770000@www.organicrisingfilm.com
SUMMARY:ORGANIC RISING Screening SANTA CRUZ\, CA
DESCRIPTION:ORGANIC RISING Screening SANTA CRUZ\, CA \nAt the Rio Theatre 1205 Soquel Av. \nMay 3\, 2024 5PM \nA Q&A will follow with Pulitzer Prize and Emmy winning film director Anthony Suau\, Nesh Dhillion executive director of the SCCFM\, Tom Broz of Live Earth Farm and Jessy Beckett Parr from CCOF Organic \nThe event is hosted by:\nCalifornia Certified Organic Farmers CCOF\nUC Santa Cruz Center for Agroecology (UCSC)\nOrganic Farming Research Foundation (OFRF)\nSanta Cruz Community Farmers’ Market (SCCFM)
URL:https://www.organicrisingfilm.com/event/organic-rising-screening-santa-cruz-ca/
LOCATION:Rio Theatre\, 1205 Soquel Ave\, Santa Cruz\, CA\, 95062\, United States
ATTACH;FMTTYPE=image/jpeg:https://www.organicrisingfilm.com/wp-content/uploads/2024/01/poster-hr-santa-cruz_03_13_2024_1920.jpg
END:VEVENT
BEGIN:VEVENT
DTSTART;TZID=America/New_York:20240410T180000
DTEND;TZID=America/New_York:20240410T210000
DTSTAMP:20260421T143731
CREATED:20240611T233323Z
LAST-MODIFIED:20240612T000505Z
UID:2369-1712772000-1712782800@www.organicrisingfilm.com
SUMMARY:ORGANIC RISING Screening SARASOTA\, FL
DESCRIPTION:ORGANIC RISING Screening SARASOTA\, FL \nSARASOTA FILM FESTIVAL \nRegal 7\n1993 Main St\, Sarasota\, FL 34236 \nApril 10\, 2024\,  6PM \nFollowed by a Q&A with Director Anthony SUAU\, Lindsay STINSON\, a certifier for QCS Quality Certification Services in Florida\, Ed CHILES owns Gamble Creek Farm in Parrish and Stephen SUAU\, a former civil engineer and partner at Progressive Water Resources. \n 
URL:https://www.organicrisingfilm.com/event/organic-rising-screening-sarasota-fl/
LOCATION:Regal 7\, 1993 Main St\, Sarasota\, FL\, 34236\, United States
ATTACH;FMTTYPE=image/jpeg:https://www.organicrisingfilm.com/wp-content/uploads/2024/06/432912776_824188539741682_8658070388742861306_n.jpg
END:VEVENT
BEGIN:VEVENT
DTSTART;TZID=America/New_York:20240228T170000
DTEND;TZID=America/New_York:20240228T210000
DTSTAMP:20260421T143731
CREATED:20240611T234017Z
LAST-MODIFIED:20240612T000722Z
UID:2375-1709139600-1709154000@www.organicrisingfilm.com
SUMMARY:ORGANIC RISING Screening EUGENE\, OR
DESCRIPTION:ORGANIC RISING Screening EUGENE\, OR \nAt the ART HOUSE 492 East 13th Ave. \nFebruary 28\, 2024 5PM \nQ&A after the screening with Pulitzer Prize and Emmy Award winning director Anthony SUAU. \nTheater and tickets sponsored by OMRI\, the Organic Transition Initiative\, Hummingbird\, Organically Grown and the Oregon Organic Coalition.
URL:https://www.organicrisingfilm.com/event/organic-rising-screening-eugene-or/
LOCATION:ART HOUSE\, 492 East 13th Ave\, Eugene\, OR\, 97401\, United States
ATTACH;FMTTYPE=image/jpeg:https://www.organicrisingfilm.com/wp-content/uploads/2024/06/poster-eugene-02_10_2024_1920.jpg
ORGANIZER;CN="Organic Rising":MAILTO:admin@organicrisingfilm.com
END:VEVENT
BEGIN:VEVENT
DTSTART;TZID=America/New_York:20240201T110000
DTEND;TZID=America/New_York:20240201T140000
DTSTAMP:20260421T143731
CREATED:20240611T235318Z
LAST-MODIFIED:20240611T235318Z
UID:2382-1706785200-1706796000@www.organicrisingfilm.com
SUMMARY:ORGANIC RISING Screening San Antiono\, TX
DESCRIPTION:ORGANIC RISING Screening San Antonio\, TX \nAt the AZTEC THEATER \nFebruary 1\, 2024 11AM \nHosted by the The Accredited Certifiers Association (ACA) a discussion panel moderated by outgoing NOSB chairman Nate Powell-Palml (Organic Integrity Cooperative Guild)\, the film’s director Anthony Suau and film participant John Foster (Chief Operating Officer\, Wolf & Associates\, Inc.)\, and Ryan Burnette\, (organic farmer and Board Member\, Accredited Certifiers Association) and Margaret Scoles\, (Executive Director\, IOIA). \n 
URL:https://www.organicrisingfilm.com/event/organic-rising-screening-san-antiono-tx/
LOCATION:AZTEC THEATER\, 104 N St Mary's St\, San Antonio\, Texas\, 78205\, United States
ATTACH;FMTTYPE=image/jpeg:https://www.organicrisingfilm.com/wp-content/uploads/2024/06/425010416_792309386262931_5953845912530475403_n.jpg
END:VEVENT
END:VCALENDAR